BEGIN:VCALENDAR
VERSION:2.0
PRODID:-//Feuerwehr Rohrbach - ECPv6.15.16//NONSGML v1.0//EN
CALSCALE:GREGORIAN
METHOD:PUBLISH
X-WR-CALNAME:Feuerwehr Rohrbach
X-ORIGINAL-URL:https://feuerwehr-rohrbach.de
X-WR-CALDESC:Veranstaltungen für Feuerwehr Rohrbach
REFRESH-INTERVAL;VALUE=DURATION:PT1H
X-Robots-Tag:noindex
X-PUBLISHED-TTL:PT1H
BEGIN:VTIMEZONE
TZID:Europe/Berlin
BEGIN:DAYLIGHT
TZOFFSETFROM:+0100
TZOFFSETTO:+0200
TZNAME:CEST
DTSTART:20250330T010000
END:DAYLIGHT
BEGIN:STANDARD
TZOFFSETFROM:+0200
TZOFFSETTO:+0100
TZNAME:CET
DTSTART:20251026T010000
END:STANDARD
BEGIN:DAYLIGHT
TZOFFSETFROM:+0100
TZOFFSETTO:+0200
TZNAME:CEST
DTSTART:20260329T010000
END:DAYLIGHT
BEGIN:STANDARD
TZOFFSETFROM:+0200
TZOFFSETTO:+0100
TZNAME:CET
DTSTART:20261025T010000
END:STANDARD
BEGIN:DAYLIGHT
TZOFFSETFROM:+0100
TZOFFSETTO:+0200
TZNAME:CEST
DTSTART:20270328T010000
END:DAYLIGHT
BEGIN:STANDARD
TZOFFSETFROM:+0200
TZOFFSETTO:+0100
TZNAME:CET
DTSTART:20271031T010000
END:STANDARD
END:VTIMEZONE
BEGIN:VEVENT
DTSTART;TZID=Europe/Berlin:20260601T184500
DTEND;TZID=Europe/Berlin:20260601T210000
DTSTAMP:20260421T212328
CREATED:20260104T223825Z
LAST-MODIFIED:20260104T223825Z
UID:3821-1780339500-1780347600@feuerwehr-rohrbach.de
SUMMARY:Für AGT: PA-Handling/Vorgehen/AÜ/SiTru/WBK
DESCRIPTION:Inhalt: Für AGTVerantwortlich: Michaeli Jo.\, Hell
URL:https://feuerwehr-rohrbach.de/event/fuer-agt-pa-handling-vorgehen-aue-sitru-wbk/
END:VEVENT
BEGIN:VEVENT
DTSTART;TZID=Europe/Berlin:20260601T184500
DTEND;TZID=Europe/Berlin:20260601T210000
DTSTAMP:20260421T212328
CREATED:20260104T223825Z
LAST-MODIFIED:20260104T223825Z
UID:3822-1780339500-1780347600@feuerwehr-rohrbach.de
SUMMARY:Rest: FwDV 3: Löschangriff Übungen Staffel/Gruppe
DESCRIPTION:Verantwortlich: Michaeli Mi.\, Michaeli Ja.
URL:https://feuerwehr-rohrbach.de/event/rest-fwdv-3-loeschangriff-uebungen-staffel-gruppe/
END:VEVENT
END:VCALENDAR