BEGIN:VCALENDAR
VERSION:2.0
PRODID:-//Feuerwehr Rohrbach - ECPv6.15.16//NONSGML v1.0//EN
CALSCALE:GREGORIAN
METHOD:PUBLISH
X-ORIGINAL-URL:https://feuerwehr-rohrbach.de
X-WR-CALDESC:Veranstaltungen für Feuerwehr Rohrbach
REFRESH-INTERVAL;VALUE=DURATION:PT1H
X-Robots-Tag:noindex
X-PUBLISHED-TTL:PT1H
BEGIN:VTIMEZONE
TZID:Europe/Berlin
BEGIN:DAYLIGHT
TZOFFSETFROM:+0100
TZOFFSETTO:+0200
TZNAME:CEST
DTSTART:20240331T010000
END:DAYLIGHT
BEGIN:STANDARD
TZOFFSETFROM:+0200
TZOFFSETTO:+0100
TZNAME:CET
DTSTART:20241027T010000
END:STANDARD
BEGIN:DAYLIGHT
TZOFFSETFROM:+0100
TZOFFSETTO:+0200
TZNAME:CEST
DTSTART:20250330T010000
END:DAYLIGHT
BEGIN:STANDARD
TZOFFSETFROM:+0200
TZOFFSETTO:+0100
TZNAME:CET
DTSTART:20251026T010000
END:STANDARD
BEGIN:DAYLIGHT
TZOFFSETFROM:+0100
TZOFFSETTO:+0200
TZNAME:CEST
DTSTART:20260329T010000
END:DAYLIGHT
BEGIN:STANDARD
TZOFFSETFROM:+0200
TZOFFSETTO:+0100
TZNAME:CET
DTSTART:20261025T010000
END:STANDARD
BEGIN:DAYLIGHT
TZOFFSETFROM:+0100
TZOFFSETTO:+0200
TZNAME:CEST
DTSTART:20270328T010000
END:DAYLIGHT
BEGIN:STANDARD
TZOFFSETFROM:+0200
TZOFFSETTO:+0100
TZNAME:CET
DTSTART:20271031T010000
END:STANDARD
END:VTIMEZONE
BEGIN:VEVENT
DTSTART;TZID=Europe/Berlin:20260420T184500
DTEND;TZID=Europe/Berlin:20260420T210000
DTSTAMP:20260421T154014
CREATED:20260104T223815Z
LAST-MODIFIED:20260104T223815Z
UID:3816-1776710700-1776718800@feuerwehr-rohrbach.de
SUMMARY:Objektbegehung Schwimmbad Das Blau
DESCRIPTION:Verantwortlich: Peters\, Jacob
URL:https://feuerwehr-rohrbach.de/event/objektbegehung-schwimmbad-das-blau/
END:VEVENT
BEGIN:VEVENT
DTSTART;TZID=Europe/Berlin:20260418T090000
DTEND;TZID=Europe/Berlin:20260418T100000
DTSTAMP:20260421T154014
CREATED:20260104T223807Z
LAST-MODIFIED:20260104T223807Z
UID:3815-1776502800-1776506400@feuerwehr-rohrbach.de
SUMMARY:Atemschutzübungsstrecke
DESCRIPTION:Inhalt: Anmeldung 2 Wochen vorher bei Zöllner / Hell unter atemschutz@feuerwehr-rohrbach.de\nUhrzeit wird bei Teilnahme mitgeteilt
URL:https://feuerwehr-rohrbach.de/event/atemschutzuebungsstrecke-4/
END:VEVENT
BEGIN:VEVENT
DTSTART;TZID=Europe/Berlin:20260413T184500
DTEND;TZID=Europe/Berlin:20260413T210000
DTSTAMP:20260421T154014
CREATED:20260104T223806Z
LAST-MODIFIED:20260104T223806Z
UID:3814-1776105900-1776114000@feuerwehr-rohrbach.de
SUMMARY:TH: Grundlagen hydraulische u. pneumatische Geräte
DESCRIPTION:Verantwortlich: Schäfer\, Wagner C.
URL:https://feuerwehr-rohrbach.de/event/th-grundlagen-hydraulische-u-pneumatische-geraete/
END:VEVENT
BEGIN:VEVENT
DTSTART;TZID=Europe/Berlin:20260401T180000
DTEND;TZID=Europe/Berlin:20260401T200000
DTSTAMP:20260421T154014
CREATED:20260104T223806Z
LAST-MODIFIED:20260104T223806Z
UID:3813-1775066400-1775073600@feuerwehr-rohrbach.de
SUMMARY:FG Gefahrgut
DESCRIPTION:Thema: Fachgruppe DrohneInhalt: Termine der FG-Gefahrgut dürfen von allen Interessenten wahrgenommen werden\nVerantwortlich: Hoffmann F.
URL:https://feuerwehr-rohrbach.de/event/fg-gefahrgut-4/
END:VEVENT
BEGIN:VEVENT
DTSTART;TZID=Europe/Berlin:20260330T184500
DTEND;TZID=Europe/Berlin:20260330T210000
DTSTAMP:20260421T154014
CREATED:20260104T223805Z
LAST-MODIFIED:20260104T223805Z
UID:3812-1774896300-1774904400@feuerwehr-rohrbach.de
SUMMARY:Brandeinsatz Objektübung Rohrbachhalle
DESCRIPTION:Verantwortlich: Hell\, Michaeli Jo.
URL:https://feuerwehr-rohrbach.de/event/brandeinsatz-objektuebung-rohrbachhalle/
END:VEVENT
BEGIN:VEVENT
DTSTART;TZID=Europe/Berlin:20260328T171500
DTEND;TZID=Europe/Berlin:20260328T191500
DTSTAMP:20260421T154014
CREATED:20260104T223805Z
LAST-MODIFIED:20260104T223805Z
UID:3811-1774718100-1774725300@feuerwehr-rohrbach.de
SUMMARY:Unterweisung UVV / FwDV7 / AED
DESCRIPTION:Inhalt: Für Gesamtstadt IGBAusweichtermin für den Dienst Montag zuvor\nVerantwortlich: alle
URL:https://feuerwehr-rohrbach.de/event/unterweisung-uvv-fwdv7-aed-2/
END:VEVENT
BEGIN:VEVENT
DTSTART;TZID=Europe/Berlin:20260323T184500
DTEND;TZID=Europe/Berlin:20260323T210000
DTSTAMP:20260421T154014
CREATED:20260104T223804Z
LAST-MODIFIED:20260104T223804Z
UID:3810-1774291500-1774299600@feuerwehr-rohrbach.de
SUMMARY:FwDV 3: Löschangriff Übungen Staffel/Gruppe
DESCRIPTION:Verantwortlich: Hell\, Flätchen
URL:https://feuerwehr-rohrbach.de/event/fwdv-3-loeschangriff-uebungen-staffel-gruppe/
END:VEVENT
BEGIN:VEVENT
DTSTART;TZID=Europe/Berlin:20260316T184500
DTEND;TZID=Europe/Berlin:20260316T210000
DTSTAMP:20260421T154014
CREATED:20260104T223803Z
LAST-MODIFIED:20260104T223803Z
UID:3809-1773686700-1773694800@feuerwehr-rohrbach.de
SUMMARY:CBRN Grundlagen
DESCRIPTION:Verantwortlich: (GAMS) Hoffmann F.\, Schäfer
URL:https://feuerwehr-rohrbach.de/event/cbrn-grundlagen/
END:VEVENT
BEGIN:VEVENT
DTSTART;TZID=Europe/Berlin:20260312T180000
DTEND;TZID=Europe/Berlin:20260312T200000
DTSTAMP:20260421T154014
CREATED:20260104T223803Z
LAST-MODIFIED:20260104T223803Z
UID:3808-1773338400-1773345600@feuerwehr-rohrbach.de
SUMMARY:1. Treffen der Führungskräfte LB 5
DESCRIPTION:Inhalt: nur für GF und ZF
URL:https://feuerwehr-rohrbach.de/event/1-treffen-der-fuehrungskraefte-lb-5/
END:VEVENT
BEGIN:VEVENT
DTSTART;TZID=Europe/Berlin:20260309T184500
DTEND;TZID=Europe/Berlin:20260309T210000
DTSTAMP:20260421T154014
CREATED:20260104T223802Z
LAST-MODIFIED:20260104T223802Z
UID:3807-1773081900-1773090000@feuerwehr-rohrbach.de
SUMMARY:Motorsägen Unterweisung
DESCRIPTION:
URL:https://feuerwehr-rohrbach.de/event/motorsaegen-unterweisung/
END:VEVENT
BEGIN:VEVENT
DTSTART;TZID=Europe/Berlin:20260302T191500
DTEND;TZID=Europe/Berlin:20260302T201500
DTSTAMP:20260421T154014
CREATED:20260104T223802Z
LAST-MODIFIED:20260104T223802Z
UID:3806-1772478900-1772482500@feuerwehr-rohrbach.de
SUMMARY:Unterweisung UVV / FwDV7 / AED
DESCRIPTION:Inhalt: Für Gesamtstadt IGBTeffpunkt im GH Rohrbach\, Abfahrt um 19:00 Uhr\nVerantwortlich: alle
URL:https://feuerwehr-rohrbach.de/event/unterweisung-uvv-fwdv7-aed/
END:VEVENT
BEGIN:VEVENT
DTSTART;TZID=Europe/Berlin:20260209T184500
DTEND;TZID=Europe/Berlin:20260209T210000
DTSTAMP:20260421T154014
CREATED:20260104T223651Z
LAST-MODIFIED:20260104T223651Z
UID:3805-1770662700-1770670800@feuerwehr-rohrbach.de
SUMMARY:FwDV 3: Lösch- u. Hilfeleistungseinsatz
DESCRIPTION:
URL:https://feuerwehr-rohrbach.de/event/fwdv-3-loesch-u-hilfeleistungseinsatz/
END:VEVENT
BEGIN:VEVENT
DTSTART;TZID=Europe/Berlin:20260204T180000
DTEND;TZID=Europe/Berlin:20260204T200000
DTSTAMP:20260421T154014
CREATED:20260104T223651Z
LAST-MODIFIED:20260104T223651Z
UID:3804-1770228000-1770235200@feuerwehr-rohrbach.de
SUMMARY:FG Gefahrgut
DESCRIPTION:Thema: Kennzeichnungen/FwDV500/ELWInhalt: Termine der FG-Gefahrgut dürfen von allen Interessenten wahrgenommen werden\nVerantwortlich: Hoffmann F.
URL:https://feuerwehr-rohrbach.de/event/fg-gefahrgut-3/
END:VEVENT
BEGIN:VEVENT
DTSTART;TZID=Europe/Berlin:20260202T190000
DTEND;TZID=Europe/Berlin:20260202T210000
DTSTAMP:20260421T154014
CREATED:20260104T223650Z
LAST-MODIFIED:20260104T223650Z
UID:3803-1770058800-1770066000@feuerwehr-rohrbach.de
SUMMARY:Atemschutzübungsstrecke
DESCRIPTION:Inhalt: Anmeldung 2 Wochen vorher bei Zöllner / Hell unter atemschutz@feuerwehr-rohrbach.de
URL:https://feuerwehr-rohrbach.de/event/atemschutzuebungsstrecke-3/
END:VEVENT
BEGIN:VEVENT
DTSTART;TZID=Europe/Berlin:20260202T184500
DTEND;TZID=Europe/Berlin:20260202T210000
DTSTAMP:20260421T154014
CREATED:20260104T223650Z
LAST-MODIFIED:20260104T223650Z
UID:3802-1770057900-1770066000@feuerwehr-rohrbach.de
SUMMARY:Tür- und Fensteröffnung / LiMa-Notstrom / Sonst. Bedarf
DESCRIPTION:Verantwortlich: Stumpf\, Hemmer\, Pitz
URL:https://feuerwehr-rohrbach.de/event/tuer-und-fensteroeffnung-lima-notstrom-sonst-bedarf/
END:VEVENT
BEGIN:VEVENT
DTSTART;TZID=Europe/Berlin:20260131T180000
DTEND;TZID=Europe/Berlin:20260131T210000
DTSTAMP:20260421T154014
CREATED:20260104T223649Z
LAST-MODIFIED:20260104T223649Z
UID:3801-1769882400-1769893200@feuerwehr-rohrbach.de
SUMMARY:Jahreshauptversammlung
DESCRIPTION:
URL:https://feuerwehr-rohrbach.de/event/jahreshauptversammlung/
END:VEVENT
BEGIN:VEVENT
DTSTART;TZID=Europe/Berlin:20260126T184500
DTEND;TZID=Europe/Berlin:20260126T210000
DTSTAMP:20260421T154014
CREATED:20260104T223648Z
LAST-MODIFIED:20260104T223648Z
UID:3800-1769453100-1769461200@feuerwehr-rohrbach.de
SUMMARY:Brandsicherheitswachen und Sicherheitskonzept
DESCRIPTION:Verantwortlich: Korn-Müller C.
URL:https://feuerwehr-rohrbach.de/event/brandsicherheitswachen-und-sicherheitskonzept/
END:VEVENT
BEGIN:VEVENT
DTSTART;TZID=Europe/Berlin:20260119T184500
DTEND;TZID=Europe/Berlin:20260119T210000
DTSTAMP:20260421T154014
CREATED:20260104T223647Z
LAST-MODIFIED:20260104T223647Z
UID:3799-1768848300-1768856400@feuerwehr-rohrbach.de
SUMMARY:Eisrettung
DESCRIPTION:Verantwortlich: Schäfer\, Pitz
URL:https://feuerwehr-rohrbach.de/event/eisrettung/
END:VEVENT
BEGIN:VEVENT
DTSTART;TZID=Europe/Berlin:20260112T184500
DTEND;TZID=Europe/Berlin:20260112T210000
DTSTAMP:20260421T154014
CREATED:20260104T223647Z
LAST-MODIFIED:20260104T223647Z
UID:3798-1768243500-1768251600@feuerwehr-rohrbach.de
SUMMARY:Fahrzeug-\, Geräte- und Werkzeugkunde
DESCRIPTION:Verantwortlich: Michel\, Schäfer\, Wagner C.
URL:https://feuerwehr-rohrbach.de/event/fahrzeug-geraete-und-werkzeugkunde/
END:VEVENT
BEGIN:VEVENT
DTSTART;TZID=Europe/Berlin:20260110T100000
DTEND;TZID=Europe/Berlin:20260110T180000
DTSTAMP:20260421T154014
CREATED:20260104T223646Z
LAST-MODIFIED:20260104T223646Z
UID:3797-1768039200-1768068000@feuerwehr-rohrbach.de
SUMMARY:Tannenbaum Sammelaktion
DESCRIPTION:Verantwortlich: Rubeck Moritz
URL:https://feuerwehr-rohrbach.de/event/tannenbaum-sammelaktion/
END:VEVENT
BEGIN:VEVENT
DTSTART;TZID=Europe/Berlin:20260105T184500
DTEND;TZID=Europe/Berlin:20260105T210000
DTSTAMP:20260421T154014
CREATED:20260104T223646Z
LAST-MODIFIED:20260104T223646Z
UID:3796-1767638700-1767646800@feuerwehr-rohrbach.de
SUMMARY:Reinigung Spinde\, Überprüfung PSA\, Geräte
DESCRIPTION:Verantwortlich: alle
URL:https://feuerwehr-rohrbach.de/event/reinigung-spinde-ueberpruefung-psa-geraete/
END:VEVENT
BEGIN:VEVENT
DTSTART;TZID=Europe/Berlin:20251229T184500
DTEND;TZID=Europe/Berlin:20251229T210000
DTSTAMP:20260421T154014
CREATED:20250915T112325Z
LAST-MODIFIED:20250915T112325Z
UID:3649-1767033900-1767042000@feuerwehr-rohrbach.de
SUMMARY:Kegeln – Turnschuhe (helle Sohle) mitbringen !!!
DESCRIPTION:
URL:https://feuerwehr-rohrbach.de/event/kegeln-turnschuhe-helle-sohle-mitbringen/
END:VEVENT
BEGIN:VEVENT
DTSTART;TZID=Europe/Berlin:20251222T184500
DTEND;TZID=Europe/Berlin:20251222T210000
DTSTAMP:20260421T154014
CREATED:20250915T112325Z
LAST-MODIFIED:20250915T112325Z
UID:3648-1766429100-1766437200@feuerwehr-rohrbach.de
SUMMARY:Tür- und Fensteröffnung / LiMa-Notstrom
DESCRIPTION:Inhalt: 2 AusbildungsstationenVerantwortlich: Walter\, Stumpf\, Hemmer // Müller\, Wagner C.\, Schäfer\, Pitz
URL:https://feuerwehr-rohrbach.de/event/tuer-und-fensteroeffnung-lima-notstrom-2/
END:VEVENT
BEGIN:VEVENT
DTSTART;TZID=Europe/Berlin:20251215T184500
DTEND;TZID=Europe/Berlin:20251215T210000
DTSTAMP:20260421T154014
CREATED:20250915T112324Z
LAST-MODIFIED:20250915T112324Z
UID:3647-1765824300-1765832400@feuerwehr-rohrbach.de
SUMMARY:Vorbeugender Brandschutz in der Praxis
DESCRIPTION:Verantwortlich: Müller\, (Stollner)
URL:https://feuerwehr-rohrbach.de/event/vorbeugender-brandschutz-in-der-praxis/
END:VEVENT
BEGIN:VEVENT
DTSTART;TZID=Europe/Berlin:20251213T140000
DTEND;TZID=Europe/Berlin:20251213T230000
DTSTAMP:20260421T154014
CREATED:20250915T112310Z
LAST-MODIFIED:20250915T112310Z
UID:3646-1765634400-1765666800@feuerwehr-rohrbach.de
SUMMARY:Jahresabschlusswanderung
DESCRIPTION:
URL:https://feuerwehr-rohrbach.de/event/jahresabschlusswanderung/
END:VEVENT
BEGIN:VEVENT
DTSTART;TZID=Europe/Berlin:20251208T184500
DTEND;TZID=Europe/Berlin:20251208T210000
DTSTAMP:20260421T154014
CREATED:20250915T112309Z
LAST-MODIFIED:20250915T112309Z
UID:3644-1765219500-1765227600@feuerwehr-rohrbach.de
SUMMARY:Besichtigung Apotheke
DESCRIPTION:Inhalt: (Objekt- und Straßenkunde)Verantwortlich: Zöllner\, Müller
URL:https://feuerwehr-rohrbach.de/event/besichtigung-apotheke/
END:VEVENT
BEGIN:VEVENT
DTSTART;TZID=Europe/Berlin:20251203T180000
DTEND;TZID=Europe/Berlin:20251203T200000
DTSTAMP:20260421T154014
CREATED:20250915T112309Z
LAST-MODIFIED:20250915T112309Z
UID:3643-1764784800-1764792000@feuerwehr-rohrbach.de
SUMMARY:FG Gefahrgut
DESCRIPTION:Thema: Einsatzmöglichkeiten ELWInhalt: Termine der FG-Gefahrgut dürfen von allen Interessenten wahrgenommen werden\nVerantwortlich: Hoffmann F.
URL:https://feuerwehr-rohrbach.de/event/fg-gefahrgut-2/
END:VEVENT
BEGIN:VEVENT
DTSTART;TZID=Europe/Berlin:20251201T184500
DTEND;TZID=Europe/Berlin:20251201T210000
DTSTAMP:20260421T154014
CREATED:20250915T112308Z
LAST-MODIFIED:20250915T112308Z
UID:3642-1764614700-1764622800@feuerwehr-rohrbach.de
SUMMARY:Für GF/ZF: Planspiel
DESCRIPTION:Verantwortlich: Michaeli M.\, Schweitzer
URL:https://feuerwehr-rohrbach.de/event/fuer-gf-zf-planspiel/
END:VEVENT
BEGIN:VEVENT
DTSTART;TZID=Europe/Berlin:20251201T184500
DTEND;TZID=Europe/Berlin:20251201T210000
DTSTAMP:20260421T154014
CREATED:20250915T112254Z
LAST-MODIFIED:20250915T112254Z
UID:3641-1764614700-1764622800@feuerwehr-rohrbach.de
SUMMARY:FwDV 1: Grundtätigkeiten/Ausrüstung
DESCRIPTION:Verantwortlich: Schwarz
URL:https://feuerwehr-rohrbach.de/event/fwdv-1-grundtaetigkeiten-ausruestung/
END:VEVENT
BEGIN:VEVENT
DTSTART;TZID=Europe/Berlin:20251124T184500
DTEND;TZID=Europe/Berlin:20251124T210000
DTSTAMP:20260421T154014
CREATED:20250915T112254Z
LAST-MODIFIED:20250915T112254Z
UID:3640-1764009900-1764018000@feuerwehr-rohrbach.de
SUMMARY:Knoten und Stiche\, Halten und Rückhalten
DESCRIPTION:Verantwortlich: Michaeli Ja.\, Milz
URL:https://feuerwehr-rohrbach.de/event/knoten-und-stiche-halten-und-rueckhalten/
END:VEVENT
END:VCALENDAR