BEGIN:VCALENDAR
VERSION:2.0
PRODID:-//Feuerwehr Rohrbach - ECPv6.15.16//NONSGML v1.0//EN
CALSCALE:GREGORIAN
METHOD:PUBLISH
X-ORIGINAL-URL:https://feuerwehr-rohrbach.de
X-WR-CALDESC:Veranstaltungen für Feuerwehr Rohrbach
REFRESH-INTERVAL;VALUE=DURATION:PT1H
X-Robots-Tag:noindex
X-PUBLISHED-TTL:PT1H
BEGIN:VTIMEZONE
TZID:Europe/Berlin
BEGIN:DAYLIGHT
TZOFFSETFROM:+0100
TZOFFSETTO:+0200
TZNAME:CEST
DTSTART:20250330T010000
END:DAYLIGHT
BEGIN:STANDARD
TZOFFSETFROM:+0200
TZOFFSETTO:+0100
TZNAME:CET
DTSTART:20251026T010000
END:STANDARD
BEGIN:DAYLIGHT
TZOFFSETFROM:+0100
TZOFFSETTO:+0200
TZNAME:CEST
DTSTART:20260329T010000
END:DAYLIGHT
BEGIN:STANDARD
TZOFFSETFROM:+0200
TZOFFSETTO:+0100
TZNAME:CET
DTSTART:20261025T010000
END:STANDARD
BEGIN:DAYLIGHT
TZOFFSETFROM:+0100
TZOFFSETTO:+0200
TZNAME:CEST
DTSTART:20270328T010000
END:DAYLIGHT
BEGIN:STANDARD
TZOFFSETFROM:+0200
TZOFFSETTO:+0100
TZNAME:CET
DTSTART:20271031T010000
END:STANDARD
END:VTIMEZONE
BEGIN:VEVENT
DTSTART;TZID=Europe/Berlin:20260615T184500
DTEND;TZID=Europe/Berlin:20260615T210000
DTSTAMP:20260421T154105
CREATED:20260104T223828Z
LAST-MODIFIED:20260104T223828Z
UID:3827-1781549100-1781557200@feuerwehr-rohrbach.de
SUMMARY:Technischer Dienst\, TdoT Abbau
DESCRIPTION:Verantwortlich: alle
URL:https://feuerwehr-rohrbach.de/event/technischer-dienst-tdot-abbau/
END:VEVENT
BEGIN:VEVENT
DTSTART;TZID=Europe/Berlin:20260622T184500
DTEND;TZID=Europe/Berlin:20260622T210000
DTSTAMP:20260421T154105
CREATED:20260104T223828Z
LAST-MODIFIED:20260104T223828Z
UID:3828-1782153900-1782162000@feuerwehr-rohrbach.de
SUMMARY:Einspeisung Steigleitung Krankenhaus
DESCRIPTION:Verantwortlich: Michaeli Mi.
URL:https://feuerwehr-rohrbach.de/event/einspeisung-steigleitung-krankenhaus/
END:VEVENT
BEGIN:VEVENT
DTSTART;TZID=Europe/Berlin:20260625T180000
DTEND;TZID=Europe/Berlin:20260625T200000
DTSTAMP:20260421T154105
CREATED:20260104T223829Z
LAST-MODIFIED:20260104T223829Z
UID:3829-1782410400-1782417600@feuerwehr-rohrbach.de
SUMMARY:2. Treffen der Führungskräfte LB 5
DESCRIPTION:Inhalt: nur für GF und ZF
URL:https://feuerwehr-rohrbach.de/event/2-treffen-der-fuehrungskraefte-lb-5/
END:VEVENT
BEGIN:VEVENT
DTSTART;TZID=Europe/Berlin:20260629T184500
DTEND;TZID=Europe/Berlin:20260629T210000
DTSTAMP:20260421T154105
CREATED:20260104T223829Z
LAST-MODIFIED:20260104T223829Z
UID:3830-1782758700-1782766800@feuerwehr-rohrbach.de
SUMMARY:Objektübung mit LB 4
DESCRIPTION:Verantwortlich: Schäfer
URL:https://feuerwehr-rohrbach.de/event/objektuebung-mit-lb-4/
END:VEVENT
BEGIN:VEVENT
DTSTART;TZID=Europe/Berlin:20260706T184500
DTEND;TZID=Europe/Berlin:20260706T210000
DTSTAMP:20260421T154105
CREATED:20260104T223831Z
LAST-MODIFIED:20260104T223833Z
UID:3831-1783363500-1783371600@feuerwehr-rohrbach.de
SUMMARY:Objektübung mit Kirkel
DESCRIPTION:Verantwortlich: LBFü
URL:https://feuerwehr-rohrbach.de/event/objektuebung-mit-kirkel/
END:VEVENT
BEGIN:VEVENT
DTSTART;TZID=Europe/Berlin:20260713T184500
DTEND;TZID=Europe/Berlin:20260713T210000
DTSTAMP:20260421T154105
CREATED:20260104T223831Z
LAST-MODIFIED:20260104T223833Z
UID:3832-1783968300-1783976400@feuerwehr-rohrbach.de
SUMMARY:Orientierung im Gelände / Funk / Bewegungsfahrt
DESCRIPTION:
URL:https://feuerwehr-rohrbach.de/event/orientierung-im-gelaende-funk-bewegungsfahrt/
END:VEVENT
BEGIN:VEVENT
DTSTART;TZID=Europe/Berlin:20260720T184500
DTEND;TZID=Europe/Berlin:20260720T210000
DTSTAMP:20260421T154105
CREATED:20260104T223832Z
LAST-MODIFIED:20260104T223833Z
UID:3833-1784573100-1784581200@feuerwehr-rohrbach.de
SUMMARY:TH VU: Grundlagen
DESCRIPTION:Verantwortlich: Michaeli Jo.
URL:https://feuerwehr-rohrbach.de/event/th-vu-grundlagen/
END:VEVENT
BEGIN:VEVENT
DTSTART;TZID=Europe/Berlin:20260727T184500
DTEND;TZID=Europe/Berlin:20260727T210000
DTSTAMP:20260421T154105
CREATED:20260104T223832Z
LAST-MODIFIED:20260104T223833Z
UID:3834-1785177900-1785186000@feuerwehr-rohrbach.de
SUMMARY:TH VU: Stationsübungen
DESCRIPTION:Verantwortlich: Michaeli Jo.
URL:https://feuerwehr-rohrbach.de/event/th-vu-stationsuebungen/
END:VEVENT
BEGIN:VEVENT
DTSTART;TZID=Europe/Berlin:20260803T184500
DTEND;TZID=Europe/Berlin:20260803T210000
DTSTAMP:20260421T154105
CREATED:20260104T223832Z
LAST-MODIFIED:20260104T223833Z
UID:3835-1785782700-1785790800@feuerwehr-rohrbach.de
SUMMARY:TH VU: Einsatzübung
DESCRIPTION:Verantwortlich: Michaeli Jo.
URL:https://feuerwehr-rohrbach.de/event/th-vu-einsatzuebung/
END:VEVENT
BEGIN:VEVENT
DTSTART;TZID=Europe/Berlin:20260805T180000
DTEND;TZID=Europe/Berlin:20260805T200000
DTSTAMP:20260421T154105
CREATED:20260104T223835Z
LAST-MODIFIED:20260104T223835Z
UID:3841-1785952800-1785960000@feuerwehr-rohrbach.de
SUMMARY:FG Gefahrgut
DESCRIPTION:Thema: Einsatzübung FestoInhalt: Termine der FG-Gefahrgut dürfen von allen Interessenten wahrgenommen werden\nVerantwortlich: Hoffmann F.
URL:https://feuerwehr-rohrbach.de/event/fg-gefahrgut-6/
END:VEVENT
BEGIN:VEVENT
DTSTART;TZID=Europe/Berlin:20260810T184500
DTEND;TZID=Europe/Berlin:20260810T210000
DTSTAMP:20260421T154105
CREATED:20260104T223836Z
LAST-MODIFIED:20260104T223836Z
UID:3842-1786387500-1786395600@feuerwehr-rohrbach.de
SUMMARY:Technischer Dienst
DESCRIPTION:
URL:https://feuerwehr-rohrbach.de/event/technischer-dienst/
END:VEVENT
BEGIN:VEVENT
DTSTART;TZID=Europe/Berlin:20260817T184500
DTEND;TZID=Europe/Berlin:20260817T210000
DTSTAMP:20260421T154105
CREATED:20260104T223836Z
LAST-MODIFIED:20260104T223836Z
UID:3843-1786992300-1787000400@feuerwehr-rohrbach.de
SUMMARY:Bootfahren (Boot LB 5 und LB 1) und Überlebensanzug
DESCRIPTION:Verantwortlich: Pitz\, Hemmer\, Schäfer
URL:https://feuerwehr-rohrbach.de/event/bootfahren-boot-lb-5-und-lb-1-und-ueberlebensanzug/
END:VEVENT
BEGIN:VEVENT
DTSTART;TZID=Europe/Berlin:20260822T160000
DTEND;TZID=Europe/Berlin:20260822T230000
DTSTAMP:20260421T154105
CREATED:20260104T223836Z
LAST-MODIFIED:20260104T223836Z
UID:3844-1787414400-1787439600@feuerwehr-rohrbach.de
SUMMARY:Sommerfest LB 5
DESCRIPTION:Inhalt: Aktive\, Alterswehr mit Partner*innen\, JF mit Eltern
URL:https://feuerwehr-rohrbach.de/event/sommerfest-lb-5/
END:VEVENT
BEGIN:VEVENT
DTSTART;TZID=Europe/Berlin:20260824T184500
DTEND;TZID=Europe/Berlin:20260824T210000
DTSTAMP:20260421T154105
CREATED:20260104T223837Z
LAST-MODIFIED:20260104T223837Z
UID:3845-1787597100-1787605200@feuerwehr-rohrbach.de
SUMMARY:Einsatzübung Wasserrettung
DESCRIPTION:Verantwortlich: Pitz\, Hemmer\, Schäfer
URL:https://feuerwehr-rohrbach.de/event/einsatzuebung-wasserrettung/
END:VEVENT
BEGIN:VEVENT
DTSTART;TZID=Europe/Berlin:20260831T184500
DTEND;TZID=Europe/Berlin:20260831T210000
DTSTAMP:20260421T154105
CREATED:20260104T223840Z
LAST-MODIFIED:20260104T223842Z
UID:3846-1788201900-1788210000@feuerwehr-rohrbach.de
SUMMARY:Radtour u. Grillen
DESCRIPTION:Verantwortlich: Hoffmann F.\, Zöllner
URL:https://feuerwehr-rohrbach.de/event/radtour-u-grillen/
END:VEVENT
BEGIN:VEVENT
DTSTART;TZID=Europe/Berlin:20260831T190000
DTEND;TZID=Europe/Berlin:20260831T210000
DTSTAMP:20260421T154105
CREATED:20260104T223840Z
LAST-MODIFIED:20260104T223842Z
UID:3847-1788202800-1788210000@feuerwehr-rohrbach.de
SUMMARY:Atemschutzübungsstrecke
DESCRIPTION:Inhalt: Anmeldung 2 Wochen vorher bei Zöllner / Hell unter atemschutz@feuerwehr-rohrbach.de
URL:https://feuerwehr-rohrbach.de/event/atemschutzuebungsstrecke-5/
END:VEVENT
BEGIN:VEVENT
DTSTART;TZID=Europe/Berlin:20260907T184500
DTEND;TZID=Europe/Berlin:20260907T210000
DTSTAMP:20260421T154105
CREATED:20260104T223840Z
LAST-MODIFIED:20260104T223842Z
UID:3848-1788806700-1788814800@feuerwehr-rohrbach.de
SUMMARY:Tragbare Leitern: Grundlagen FwDV3 und 10
DESCRIPTION:Verantwortlich: Peters\, Zöllner
URL:https://feuerwehr-rohrbach.de/event/tragbare-leitern-grundlagen-fwdv3-und-10/
END:VEVENT
BEGIN:VEVENT
DTSTART;TZID=Europe/Berlin:20260910T180000
DTEND;TZID=Europe/Berlin:20260910T200000
DTSTAMP:20260421T154105
CREATED:20260104T223840Z
LAST-MODIFIED:20260104T223842Z
UID:3849-1789063200-1789070400@feuerwehr-rohrbach.de
SUMMARY:3. Treffen der Führungskräfte LB 5
DESCRIPTION:Inhalt: nur für GF und ZF
URL:https://feuerwehr-rohrbach.de/event/3-treffen-der-fuehrungskraefte-lb-5-2/
END:VEVENT
BEGIN:VEVENT
DTSTART;TZID=Europe/Berlin:20260914T184500
DTEND;TZID=Europe/Berlin:20260914T210000
DTSTAMP:20260421T154105
CREATED:20260104T223841Z
LAST-MODIFIED:20260104T223842Z
UID:3850-1789411500-1789419600@feuerwehr-rohrbach.de
SUMMARY:Tragbare Leitern: Objektübung
DESCRIPTION:Verantwortlich: Peters\, Zöllner
URL:https://feuerwehr-rohrbach.de/event/tragbare-leitern-objektuebung-2/
END:VEVENT
BEGIN:VEVENT
DTSTART;TZID=Europe/Berlin:20260921T184500
DTEND;TZID=Europe/Berlin:20260921T210000
DTSTAMP:20260421T154105
CREATED:20260104T223847Z
LAST-MODIFIED:20260104T223847Z
UID:3856-1790016300-1790024400@feuerwehr-rohrbach.de
SUMMARY:Motorsägen und Ausleuchten
DESCRIPTION:
URL:https://feuerwehr-rohrbach.de/event/motorsaegen-und-ausleuchten/
END:VEVENT
BEGIN:VEVENT
DTSTART;TZID=Europe/Berlin:20260928T184500
DTEND;TZID=Europe/Berlin:20260928T210000
DTSTAMP:20260421T154105
CREATED:20260104T223848Z
LAST-MODIFIED:20260104T223848Z
UID:3857-1790621100-1790629200@feuerwehr-rohrbach.de
SUMMARY:TH: Trennen und Schneiden
DESCRIPTION:
URL:https://feuerwehr-rohrbach.de/event/th-trennen-und-schneiden-2/
END:VEVENT
BEGIN:VEVENT
DTSTART;TZID=Europe/Berlin:20261005T180000
DTEND;TZID=Europe/Berlin:20261005T200000
DTSTAMP:20260421T154105
CREATED:20260104T223849Z
LAST-MODIFIED:20260104T223849Z
UID:3858-1791223200-1791230400@feuerwehr-rohrbach.de
SUMMARY:FG Gefahrgut
DESCRIPTION:Thema: Einsatzübung\, CSA Übung LBZ MitteInhalt: Termine der FG-Gefahrgut dürfen von allen Interessenten wahrgenommen werden\nVerantwortlich: Hoffmann F.
URL:https://feuerwehr-rohrbach.de/event/fg-gefahrgut-7/
END:VEVENT
BEGIN:VEVENT
DTSTART;TZID=Europe/Berlin:20261005T184500
DTEND;TZID=Europe/Berlin:20261005T210000
DTSTAMP:20260421T154105
CREATED:20260104T223849Z
LAST-MODIFIED:20260104T223849Z
UID:3859-1791225900-1791234000@feuerwehr-rohrbach.de
SUMMARY:TH: Kleinübungen
DESCRIPTION:
URL:https://feuerwehr-rohrbach.de/event/th-kleinuebungen/
END:VEVENT
BEGIN:VEVENT
DTSTART;TZID=Europe/Berlin:20261012T184500
DTEND;TZID=Europe/Berlin:20261012T210000
DTSTAMP:20260421T154105
CREATED:20260104T223850Z
LAST-MODIFIED:20260104T223850Z
UID:3860-1791830700-1791838800@feuerwehr-rohrbach.de
SUMMARY:Objektbegehung Kita/Schule/Herweck/Beiersdörfer ???
DESCRIPTION:
URL:https://feuerwehr-rohrbach.de/event/objektbegehung-kita-schule-herweck-beiersdoerfer/
END:VEVENT
BEGIN:VEVENT
DTSTART;TZID=Europe/Berlin:20261019T184500
DTEND;TZID=Europe/Berlin:20261019T210000
DTSTAMP:20260421T154105
CREATED:20260104T223851Z
LAST-MODIFIED:20260104T223851Z
UID:3861-1792435500-1792443600@feuerwehr-rohrbach.de
SUMMARY:Wärmebildkamera und Ex-Ox-Messgerät
DESCRIPTION:Verantwortlich: Wannenmacher LB 3
URL:https://feuerwehr-rohrbach.de/event/waermebildkamera-und-ex-ox-messgeraet-2/
END:VEVENT
BEGIN:VEVENT
DTSTART;TZID=Europe/Berlin:20261019T190000
DTEND;TZID=Europe/Berlin:20261019T210000
DTSTAMP:20260421T154105
CREATED:20260104T223851Z
LAST-MODIFIED:20260104T223851Z
UID:3862-1792436400-1792443600@feuerwehr-rohrbach.de
SUMMARY:Atemschutzübungsstrecke
DESCRIPTION:Inhalt: Anmeldung 2 Wochen vorher bei Zöllner / Hell unter atemschutz@feuerwehr-rohrbach.de
URL:https://feuerwehr-rohrbach.de/event/atemschutzuebungsstrecke-6/
END:VEVENT
BEGIN:VEVENT
DTSTART;TZID=Europe/Berlin:20261026T184500
DTEND;TZID=Europe/Berlin:20261026T210000
DTSTAMP:20260421T154105
CREATED:20260104T223852Z
LAST-MODIFIED:20260104T223852Z
UID:3863-1793040300-1793048400@feuerwehr-rohrbach.de
SUMMARY:Pumpen / Wassersauger / Belüftungsgeräte / Aggregate
DESCRIPTION:
URL:https://feuerwehr-rohrbach.de/event/pumpen-wassersauger-belueftungsgeraete-aggregate/
END:VEVENT
BEGIN:VEVENT
DTSTART;TZID=Europe/Berlin:20261102T184500
DTEND;TZID=Europe/Berlin:20261102T210000
DTSTAMP:20260421T154105
CREATED:20260104T223852Z
LAST-MODIFIED:20260104T223852Z
UID:3864-1793645100-1793653200@feuerwehr-rohrbach.de
SUMMARY:Sonderfahrzeuge DLK und RW
DESCRIPTION:
URL:https://feuerwehr-rohrbach.de/event/sonderfahrzeuge-dlk-und-rw/
END:VEVENT
BEGIN:VEVENT
DTSTART;TZID=Europe/Berlin:20261109T184500
DTEND;TZID=Europe/Berlin:20261109T210000
DTSTAMP:20260421T154105
CREATED:20260104T223852Z
LAST-MODIFIED:20260104T223852Z
UID:3865-1794249900-1794258000@feuerwehr-rohrbach.de
SUMMARY:Hilfeleistungskonzept Bahn
DESCRIPTION:
URL:https://feuerwehr-rohrbach.de/event/hilfeleistungskonzept-bahn/
END:VEVENT
BEGIN:VEVENT
DTSTART;TZID=Europe/Berlin:20261114T090000
DTEND;TZID=Europe/Berlin:20261114T100000
DTSTAMP:20260421T154105
CREATED:20260104T223857Z
LAST-MODIFIED:20260104T223857Z
UID:3866-1794646800-1794650400@feuerwehr-rohrbach.de
SUMMARY:Atemschutzübungsstrecke
DESCRIPTION:Inhalt: Anmeldung 2 Wochen vorher bei Zöllner / Hell unter atemschutz@feuerwehr-rohrbach.de\nUhrzeit wird bei Teilnahme mitgeteilt
URL:https://feuerwehr-rohrbach.de/event/atemschutzuebungsstrecke-7/
END:VEVENT
END:VCALENDAR