BEGIN:VCALENDAR
VERSION:2.0
PRODID:-//Feuerwehr Rohrbach - ECPv6.15.16//NONSGML v1.0//EN
CALSCALE:GREGORIAN
METHOD:PUBLISH
X-ORIGINAL-URL:https://feuerwehr-rohrbach.de
X-WR-CALDESC:Veranstaltungen für Feuerwehr Rohrbach
REFRESH-INTERVAL;VALUE=DURATION:PT1H
X-Robots-Tag:noindex
X-PUBLISHED-TTL:PT1H
BEGIN:VTIMEZONE
TZID:Europe/Berlin
BEGIN:DAYLIGHT
TZOFFSETFROM:+0100
TZOFFSETTO:+0200
TZNAME:CEST
DTSTART:20250330T010000
END:DAYLIGHT
BEGIN:STANDARD
TZOFFSETFROM:+0200
TZOFFSETTO:+0100
TZNAME:CET
DTSTART:20251026T010000
END:STANDARD
BEGIN:DAYLIGHT
TZOFFSETFROM:+0100
TZOFFSETTO:+0200
TZNAME:CEST
DTSTART:20260329T010000
END:DAYLIGHT
BEGIN:STANDARD
TZOFFSETFROM:+0200
TZOFFSETTO:+0100
TZNAME:CET
DTSTART:20261025T010000
END:STANDARD
BEGIN:DAYLIGHT
TZOFFSETFROM:+0100
TZOFFSETTO:+0200
TZNAME:CEST
DTSTART:20270328T010000
END:DAYLIGHT
BEGIN:STANDARD
TZOFFSETFROM:+0200
TZOFFSETTO:+0100
TZNAME:CET
DTSTART:20271031T010000
END:STANDARD
END:VTIMEZONE
BEGIN:VEVENT
DTSTART;TZID=Europe/Berlin:20261116T184500
DTEND;TZID=Europe/Berlin:20261116T210000
DTSTAMP:20260421T202125
CREATED:20260104T223858Z
LAST-MODIFIED:20260104T223858Z
UID:3867-1794854700-1794862800@feuerwehr-rohrbach.de
SUMMARY:MANV-Konzept und Rettungsdienstfahrzeuge
DESCRIPTION:Verantwortlich: Wagner C.
URL:https://feuerwehr-rohrbach.de/event/manv-konzept-und-rettungsdienstfahrzeuge/
END:VEVENT
BEGIN:VEVENT
DTSTART;TZID=Europe/Berlin:20261123T184500
DTEND;TZID=Europe/Berlin:20261123T210000
DTSTAMP:20260421T202125
CREATED:20260104T223858Z
LAST-MODIFIED:20260104T223858Z
UID:3868-1795459500-1795467600@feuerwehr-rohrbach.de
SUMMARY:Tür- und Fensteröffnung / LiMa-Notstrom / Sonst. Bedarf
DESCRIPTION:Verantwortlich: Stumpf\, Hemmer\, Pitz
URL:https://feuerwehr-rohrbach.de/event/tuer-und-fensteroeffnung-lima-notstrom-sonst-bedarf-2/
END:VEVENT
BEGIN:VEVENT
DTSTART;TZID=Europe/Berlin:20261130T184500
DTEND;TZID=Europe/Berlin:20261130T210000
DTSTAMP:20260421T202125
CREATED:20260104T223859Z
LAST-MODIFIED:20260104T223859Z
UID:3869-1796064300-1796072400@feuerwehr-rohrbach.de
SUMMARY:Rest: FwDV 1: Grundtätigkeiten/Ausrüstung
DESCRIPTION:
URL:https://feuerwehr-rohrbach.de/event/rest-fwdv-1-grundtaetigkeiten-ausruestung/
END:VEVENT
BEGIN:VEVENT
DTSTART;TZID=Europe/Berlin:20261130T184500
DTEND;TZID=Europe/Berlin:20261130T210000
DTSTAMP:20260421T202125
CREATED:20260104T223859Z
LAST-MODIFIED:20260104T223859Z
UID:3870-1796064300-1796072400@feuerwehr-rohrbach.de
SUMMARY:Für GF/ZF: Planspiel
DESCRIPTION:
URL:https://feuerwehr-rohrbach.de/event/fuer-gf-zf-planspiel-2/
END:VEVENT
BEGIN:VEVENT
DTSTART;TZID=Europe/Berlin:20261202T180000
DTEND;TZID=Europe/Berlin:20261202T200000
DTSTAMP:20260421T202125
CREATED:20260104T223902Z
LAST-MODIFIED:20260104T223904Z
UID:3871-1796234400-1796241600@feuerwehr-rohrbach.de
SUMMARY:FG Gefahrgut
DESCRIPTION:Thema: Umgang mit Kampfstoffen/MunitionInhalt: Termine der FG-Gefahrgut dürfen von allen Interessenten wahrgenommen werden\nVerantwortlich: Hoffmann F.
URL:https://feuerwehr-rohrbach.de/event/fg-gefahrgut-8/
END:VEVENT
BEGIN:VEVENT
DTSTART;TZID=Europe/Berlin:20261207T184500
DTEND;TZID=Europe/Berlin:20261207T210000
DTSTAMP:20260421T202125
CREATED:20260104T223902Z
LAST-MODIFIED:20260104T223904Z
UID:3872-1796669100-1796677200@feuerwehr-rohrbach.de
SUMMARY:Objektbegehung
DESCRIPTION:Verantwortlich: Peters\, Zöllner
URL:https://feuerwehr-rohrbach.de/event/objektbegehung/
END:VEVENT
BEGIN:VEVENT
DTSTART;TZID=Europe/Berlin:20261210T180000
DTEND;TZID=Europe/Berlin:20261210T200000
DTSTAMP:20260421T202125
CREATED:20260104T223903Z
LAST-MODIFIED:20260104T223905Z
UID:3873-1796925600-1796932800@feuerwehr-rohrbach.de
SUMMARY:4. Treffen der Führungskräfte LB 5
DESCRIPTION:Inhalt: nur für GF und ZF
URL:https://feuerwehr-rohrbach.de/event/4-treffen-der-fuehrungskraefte-lb-5-2/
END:VEVENT
BEGIN:VEVENT
DTSTART;TZID=Europe/Berlin:20261212T140000
DTEND;TZID=Europe/Berlin:20261212T230000
DTSTAMP:20260421T202125
CREATED:20260104T223903Z
LAST-MODIFIED:20260104T223905Z
UID:3874-1797084000-1797116400@feuerwehr-rohrbach.de
SUMMARY:Jahresabschlusswanderung
DESCRIPTION:
URL:https://feuerwehr-rohrbach.de/event/jahresabschlusswanderung-2/
END:VEVENT
BEGIN:VEVENT
DTSTART;TZID=Europe/Berlin:20261214T184500
DTEND;TZID=Europe/Berlin:20261214T210000
DTSTAMP:20260421T202125
CREATED:20260104T223904Z
LAST-MODIFIED:20260104T223905Z
UID:3875-1797273900-1797282000@feuerwehr-rohrbach.de
SUMMARY:Psychologische Fähigkeiten in der Feuerwehr
DESCRIPTION:Verantwortlich: Jacob
URL:https://feuerwehr-rohrbach.de/event/psychologische-faehigkeiten-in-der-feuerwehr/
END:VEVENT
END:VCALENDAR