BEGIN:VCALENDAR
VERSION:2.0
PRODID:-//Feuerwehr Rohrbach - ECPv6.15.16//NONSGML v1.0//EN
CALSCALE:GREGORIAN
METHOD:PUBLISH
X-ORIGINAL-URL:https://feuerwehr-rohrbach.de
X-WR-CALDESC:Veranstaltungen für Feuerwehr Rohrbach
REFRESH-INTERVAL;VALUE=DURATION:PT1H
X-Robots-Tag:noindex
X-PUBLISHED-TTL:PT1H
BEGIN:VTIMEZONE
TZID:Europe/Berlin
BEGIN:DAYLIGHT
TZOFFSETFROM:+0100
TZOFFSETTO:+0200
TZNAME:CEST
DTSTART:20220327T010000
END:DAYLIGHT
BEGIN:STANDARD
TZOFFSETFROM:+0200
TZOFFSETTO:+0100
TZNAME:CET
DTSTART:20221030T010000
END:STANDARD
BEGIN:DAYLIGHT
TZOFFSETFROM:+0100
TZOFFSETTO:+0200
TZNAME:CEST
DTSTART:20230326T010000
END:DAYLIGHT
BEGIN:STANDARD
TZOFFSETFROM:+0200
TZOFFSETTO:+0100
TZNAME:CET
DTSTART:20231029T010000
END:STANDARD
BEGIN:DAYLIGHT
TZOFFSETFROM:+0100
TZOFFSETTO:+0200
TZNAME:CEST
DTSTART:20240331T010000
END:DAYLIGHT
BEGIN:STANDARD
TZOFFSETFROM:+0200
TZOFFSETTO:+0100
TZNAME:CET
DTSTART:20241027T010000
END:STANDARD
END:VTIMEZONE
BEGIN:VEVENT
DTSTART;TZID=Europe/Berlin:20230417T190000
DTEND;TZID=Europe/Berlin:20230417T210000
DTSTAMP:20260423T233236
CREATED:20230408T000146Z
LAST-MODIFIED:20230408T003037Z
UID:133-1681758000-1681765200@feuerwehr-rohrbach.de
SUMMARY:ABC Objektübung bei Festo (mit Gefahrstoffzug)
DESCRIPTION:
URL:https://feuerwehr-rohrbach.de/event/dienst/
LOCATION:Gerätehaus\, Hinter den Gärten 10\, 66386 St. Ingbert
END:VEVENT
BEGIN:VEVENT
DTSTART;TZID=Europe/Berlin:20230424T190000
DTEND;TZID=Europe/Berlin:20230424T210000
DTSTAMP:20260423T233236
CREATED:20230408T003241Z
LAST-MODIFIED:20230408T003241Z
UID:147-1682362800-1682370000@feuerwehr-rohrbach.de
SUMMARY:Einsatz mit DLK i n IGB Mitte
DESCRIPTION:
URL:https://feuerwehr-rohrbach.de/event/einsatz-mit-dlk-i-n-igb-mitte/
LOCATION:Gerätehaus\, Hinter den Gärten 10\, 66386 St. Ingbert
END:VEVENT
END:VCALENDAR