BEGIN:VCALENDAR
VERSION:2.0
PRODID:-//Feuerwehr Rohrbach - ECPv6.15.16//NONSGML v1.0//EN
CALSCALE:GREGORIAN
METHOD:PUBLISH
X-ORIGINAL-URL:https://feuerwehr-rohrbach.de
X-WR-CALDESC:Veranstaltungen für Feuerwehr Rohrbach
REFRESH-INTERVAL;VALUE=DURATION:PT1H
X-Robots-Tag:noindex
X-PUBLISHED-TTL:PT1H
BEGIN:VTIMEZONE
TZID:Europe/Berlin
BEGIN:DAYLIGHT
TZOFFSETFROM:+0100
TZOFFSETTO:+0200
TZNAME:CEST
DTSTART:20220327T010000
END:DAYLIGHT
BEGIN:STANDARD
TZOFFSETFROM:+0200
TZOFFSETTO:+0100
TZNAME:CET
DTSTART:20221030T010000
END:STANDARD
BEGIN:DAYLIGHT
TZOFFSETFROM:+0100
TZOFFSETTO:+0200
TZNAME:CEST
DTSTART:20230326T010000
END:DAYLIGHT
BEGIN:STANDARD
TZOFFSETFROM:+0200
TZOFFSETTO:+0100
TZNAME:CET
DTSTART:20231029T010000
END:STANDARD
BEGIN:DAYLIGHT
TZOFFSETFROM:+0100
TZOFFSETTO:+0200
TZNAME:CEST
DTSTART:20240331T010000
END:DAYLIGHT
BEGIN:STANDARD
TZOFFSETFROM:+0200
TZOFFSETTO:+0100
TZNAME:CET
DTSTART:20241027T010000
END:STANDARD
END:VTIMEZONE
BEGIN:VEVENT
DTSTART;TZID=Europe/Berlin:20230605T190000
DTEND;TZID=Europe/Berlin:20230605T210000
DTSTAMP:20260423T203642
CREATED:20230409T224300Z
LAST-MODIFIED:20230409T224300Z
UID:296-1685991600-1685998800@feuerwehr-rohrbach.de
SUMMARY:Technischer Dienst\, TdoT Abbau Aufräumen
DESCRIPTION:
URL:https://feuerwehr-rohrbach.de/event/technischer-dienst-tdot-abbau-aufraeumen/
LOCATION:Gerätehaus\, Hinter den Gärten 10\, 66386 St. Ingbert
END:VEVENT
BEGIN:VEVENT
DTSTART;TZID=Europe/Berlin:20230612T190000
DTEND;TZID=Europe/Berlin:20230612T210000
DTSTAMP:20260423T203642
CREATED:20230409T224422Z
LAST-MODIFIED:20230409T224422Z
UID:298-1686596400-1686603600@feuerwehr-rohrbach.de
SUMMARY:Brand Grundlagen Vegetations Waldbrände
DESCRIPTION:
URL:https://feuerwehr-rohrbach.de/event/brand-grundlagen-vegetations-waldbraende/
LOCATION:Gerätehaus\, Hinter den Gärten 10\, 66386 St. Ingbert
END:VEVENT
BEGIN:VEVENT
DTSTART;TZID=Europe/Berlin:20230619T190000
DTEND;TZID=Europe/Berlin:20230619T210000
DTSTAMP:20260423T203642
CREATED:20230409T224507Z
LAST-MODIFIED:20230409T224507Z
UID:300-1687201200-1687208400@feuerwehr-rohrbach.de
SUMMARY:Brand Wald Übung mit Hassel
DESCRIPTION:
URL:https://feuerwehr-rohrbach.de/event/brand-wald-uebung-mit-hassel/
LOCATION:Gerätehaus\, Hinter den Gärten 10\, 66386 St. Ingbert
END:VEVENT
BEGIN:VEVENT
DTSTART;TZID=Europe/Berlin:20230626T190000
DTEND;TZID=Europe/Berlin:20230626T210000
DTSTAMP:20260423T203642
CREATED:20230409T224627Z
LAST-MODIFIED:20230409T224627Z
UID:302-1687806000-1687813200@feuerwehr-rohrbach.de
SUMMARY:Orientierung im Gelände Wald
DESCRIPTION:
URL:https://feuerwehr-rohrbach.de/event/orientierung-im-gelaende-wald/
LOCATION:Gerätehaus\, Hinter den Gärten 10\, 66386 St. Ingbert
END:VEVENT
END:VCALENDAR