BEGIN:VCALENDAR
VERSION:2.0
PRODID:-//Feuerwehr Rohrbach - ECPv6.15.16//NONSGML v1.0//EN
CALSCALE:GREGORIAN
METHOD:PUBLISH
X-WR-CALNAME:Feuerwehr Rohrbach
X-ORIGINAL-URL:https://feuerwehr-rohrbach.de
X-WR-CALDESC:Veranstaltungen für Feuerwehr Rohrbach
REFRESH-INTERVAL;VALUE=DURATION:PT1H
X-Robots-Tag:noindex
X-PUBLISHED-TTL:PT1H
BEGIN:VTIMEZONE
TZID:Europe/Berlin
BEGIN:DAYLIGHT
TZOFFSETFROM:+0100
TZOFFSETTO:+0200
TZNAME:CEST
DTSTART:20240331T010000
END:DAYLIGHT
BEGIN:STANDARD
TZOFFSETFROM:+0200
TZOFFSETTO:+0100
TZNAME:CET
DTSTART:20241027T010000
END:STANDARD
BEGIN:DAYLIGHT
TZOFFSETFROM:+0100
TZOFFSETTO:+0200
TZNAME:CEST
DTSTART:20250330T010000
END:DAYLIGHT
BEGIN:STANDARD
TZOFFSETFROM:+0200
TZOFFSETTO:+0100
TZNAME:CET
DTSTART:20251026T010000
END:STANDARD
BEGIN:DAYLIGHT
TZOFFSETFROM:+0100
TZOFFSETTO:+0200
TZNAME:CEST
DTSTART:20260329T010000
END:DAYLIGHT
BEGIN:STANDARD
TZOFFSETFROM:+0200
TZOFFSETTO:+0100
TZNAME:CET
DTSTART:20261025T010000
END:STANDARD
END:VTIMEZONE
BEGIN:VEVENT
DTSTART;TZID=Europe/Berlin:20250908T184500
DTEND;TZID=Europe/Berlin:20250908T210000
DTSTAMP:20260422T031920
CREATED:20250915T112220Z
LAST-MODIFIED:20250915T112220Z
UID:3623-1757357100-1757365200@feuerwehr-rohrbach.de
SUMMARY:Tür- und Fensteröffnung / LiMa-Notstrom
DESCRIPTION:Inhalt: 2 AusbildungsstationenVerantwortlich: Walter\, Stumpf\, Hemmer // Müller\, Wagner C.\, Schäfer\, Pitz
URL:https://feuerwehr-rohrbach.de/event/tuer-und-fensteroeffnung-lima-notstrom/
END:VEVENT
BEGIN:VEVENT
DTSTART;TZID=Europe/Berlin:20250915T184500
DTEND;TZID=Europe/Berlin:20250915T210000
DTSTAMP:20260422T031920
CREATED:20250915T112221Z
LAST-MODIFIED:20250915T112221Z
UID:3626-1757961900-1757970000@feuerwehr-rohrbach.de
SUMMARY:Änderung! Besuch Fa. Imar mit LB2
DESCRIPTION:Verantwortlich: Korn-Müller
URL:https://feuerwehr-rohrbach.de/event/aenderung-besuch-fa-imar-mit-lb2/
END:VEVENT
BEGIN:VEVENT
DTSTART;TZID=Europe/Berlin:20250922T184500
DTEND;TZID=Europe/Berlin:20250922T210000
DTSTAMP:20260422T031920
CREATED:20250915T112223Z
LAST-MODIFIED:20250915T112223Z
UID:3628-1758566700-1758574800@feuerwehr-rohrbach.de
SUMMARY:Tragbare Leitern: Grundlagen
DESCRIPTION:Verantwortlich: Peters\, Zöllner
URL:https://feuerwehr-rohrbach.de/event/tragbare-leitern-grundlagen/
END:VEVENT
BEGIN:VEVENT
DTSTART;TZID=Europe/Berlin:20250929T184500
DTEND;TZID=Europe/Berlin:20250929T210000
DTSTAMP:20260422T031920
CREATED:20250915T112223Z
LAST-MODIFIED:20250915T112223Z
UID:3629-1759171500-1759179600@feuerwehr-rohrbach.de
SUMMARY:Tragbare Leitern: Objektübung
DESCRIPTION:Verantwortlich: Peters\, Zöllner
URL:https://feuerwehr-rohrbach.de/event/tragbare-leitern-objektuebung/
END:VEVENT
END:VCALENDAR