BEGIN:VCALENDAR
VERSION:2.0
PRODID:-//Feuerwehr Rohrbach - ECPv6.15.16//NONSGML v1.0//EN
CALSCALE:GREGORIAN
METHOD:PUBLISH
X-ORIGINAL-URL:https://feuerwehr-rohrbach.de
X-WR-CALDESC:Veranstaltungen für Feuerwehr Rohrbach
REFRESH-INTERVAL;VALUE=DURATION:PT1H
X-Robots-Tag:noindex
X-PUBLISHED-TTL:PT1H
BEGIN:VTIMEZONE
TZID:Europe/Berlin
BEGIN:DAYLIGHT
TZOFFSETFROM:+0100
TZOFFSETTO:+0200
TZNAME:CEST
DTSTART:20240331T010000
END:DAYLIGHT
BEGIN:STANDARD
TZOFFSETFROM:+0200
TZOFFSETTO:+0100
TZNAME:CET
DTSTART:20241027T010000
END:STANDARD
BEGIN:DAYLIGHT
TZOFFSETFROM:+0100
TZOFFSETTO:+0200
TZNAME:CEST
DTSTART:20250330T010000
END:DAYLIGHT
BEGIN:STANDARD
TZOFFSETFROM:+0200
TZOFFSETTO:+0100
TZNAME:CET
DTSTART:20251026T010000
END:STANDARD
BEGIN:DAYLIGHT
TZOFFSETFROM:+0100
TZOFFSETTO:+0200
TZNAME:CEST
DTSTART:20260329T010000
END:DAYLIGHT
BEGIN:STANDARD
TZOFFSETFROM:+0200
TZOFFSETTO:+0100
TZNAME:CET
DTSTART:20261025T010000
END:STANDARD
END:VTIMEZONE
BEGIN:VEVENT
DTSTART;TZID=Europe/Berlin:20251001T180000
DTEND;TZID=Europe/Berlin:20251001T200000
DTSTAMP:20260422T014811
CREATED:20250915T112224Z
LAST-MODIFIED:20250915T112224Z
UID:3630-1759341600-1759348800@feuerwehr-rohrbach.de
SUMMARY:FG Gefahrgut
DESCRIPTION:Thema: Einsatzübung\, CSA NotfallInhalt: Termine der FG-Gefahrgut dürfen von allen Interessenten wahrgenommen werden\nVerantwortlich: Hoffmann F.
URL:https://feuerwehr-rohrbach.de/event/fg-gefahrgut/
END:VEVENT
BEGIN:VEVENT
DTSTART;TZID=Europe/Berlin:20251006T184500
DTEND;TZID=Europe/Berlin:20251006T210000
DTSTAMP:20260422T014811
CREATED:20250915T112224Z
LAST-MODIFIED:20250915T112224Z
UID:3631-1759776300-1759784400@feuerwehr-rohrbach.de
SUMMARY:TH: Trennen und Schneiden
DESCRIPTION:Inhalt: Beim THWVerantwortlich: MIchaeli Jo.
URL:https://feuerwehr-rohrbach.de/event/th-trennen-und-schneiden/
END:VEVENT
BEGIN:VEVENT
DTSTART;TZID=Europe/Berlin:20251011T210000
DTEND;TZID=Europe/Berlin:20251011T220000
DTSTAMP:20260422T014811
CREATED:20250915T112224Z
LAST-MODIFIED:20250915T112224Z
UID:3632-1760216400-1760220000@feuerwehr-rohrbach.de
SUMMARY:Fortbildung für Gruppen- und Zugführer Gesamtstadt
DESCRIPTION:Inhalt: alle GF/ZF
URL:https://feuerwehr-rohrbach.de/event/fortbildung-fuer-gruppen-und-zugfuehrer-gesamtstadt/
END:VEVENT
BEGIN:VEVENT
DTSTART;TZID=Europe/Berlin:20251013T184500
DTEND;TZID=Europe/Berlin:20251013T210000
DTSTAMP:20260422T014811
CREATED:20250915T112238Z
LAST-MODIFIED:20250915T112238Z
UID:3633-1760381100-1760389200@feuerwehr-rohrbach.de
SUMMARY:TH: Mehrzweckzug und Kleinübungen (Mechanik)
DESCRIPTION:Verantwortlich: Michel\, Müller
URL:https://feuerwehr-rohrbach.de/event/th-mehrzweckzug-und-kleinuebungen-mechanik/
END:VEVENT
BEGIN:VEVENT
DTSTART;TZID=Europe/Berlin:20251020T184500
DTEND;TZID=Europe/Berlin:20251020T210000
DTSTAMP:20260422T014811
CREATED:20250915T112239Z
LAST-MODIFIED:20250915T112239Z
UID:3634-1760985900-1760994000@feuerwehr-rohrbach.de
SUMMARY:Wärmebildkamera und Ex-Ox-Messgerät
DESCRIPTION:Verantwortlich: Wannenmacher (LB 3)
URL:https://feuerwehr-rohrbach.de/event/waermebildkamera-und-ex-ox-messgeraet/
END:VEVENT
BEGIN:VEVENT
DTSTART;TZID=Europe/Berlin:20251027T184500
DTEND;TZID=Europe/Berlin:20251027T210000
DTSTAMP:20260422T014811
CREATED:20250915T112239Z
LAST-MODIFIED:20250915T112239Z
UID:3636-1761590700-1761598800@feuerwehr-rohrbach.de
SUMMARY:Tragbare Pumpen / Wassersauger / Belüftungsgeräte
DESCRIPTION:Verantwortlich: Wagner C.\, Schäfer
URL:https://feuerwehr-rohrbach.de/event/tragbare-pumpen-wassersauger-belueftungsgeraete/
END:VEVENT
END:VCALENDAR