BEGIN:VCALENDAR
VERSION:2.0
PRODID:-//Feuerwehr Rohrbach - ECPv6.15.16//NONSGML v1.0//EN
CALSCALE:GREGORIAN
METHOD:PUBLISH
X-WR-CALNAME:Feuerwehr Rohrbach
X-ORIGINAL-URL:https://feuerwehr-rohrbach.de
X-WR-CALDESC:Veranstaltungen für Feuerwehr Rohrbach
REFRESH-INTERVAL;VALUE=DURATION:PT1H
X-Robots-Tag:noindex
X-PUBLISHED-TTL:PT1H
BEGIN:VTIMEZONE
TZID:Europe/Berlin
BEGIN:DAYLIGHT
TZOFFSETFROM:+0100
TZOFFSETTO:+0200
TZNAME:CEST
DTSTART:20250330T010000
END:DAYLIGHT
BEGIN:STANDARD
TZOFFSETFROM:+0200
TZOFFSETTO:+0100
TZNAME:CET
DTSTART:20251026T010000
END:STANDARD
BEGIN:DAYLIGHT
TZOFFSETFROM:+0100
TZOFFSETTO:+0200
TZNAME:CEST
DTSTART:20260329T010000
END:DAYLIGHT
BEGIN:STANDARD
TZOFFSETFROM:+0200
TZOFFSETTO:+0100
TZNAME:CET
DTSTART:20261025T010000
END:STANDARD
BEGIN:DAYLIGHT
TZOFFSETFROM:+0100
TZOFFSETTO:+0200
TZNAME:CEST
DTSTART:20270328T010000
END:DAYLIGHT
BEGIN:STANDARD
TZOFFSETFROM:+0200
TZOFFSETTO:+0100
TZNAME:CET
DTSTART:20271031T010000
END:STANDARD
END:VTIMEZONE
BEGIN:VEVENT
DTSTART;TZID=Europe/Berlin:20260504T184500
DTEND;TZID=Europe/Berlin:20260504T210000
DTSTAMP:20260421T172858
CREATED:20260104T223816Z
LAST-MODIFIED:20260104T223816Z
UID:3818-1777920300-1777928400@feuerwehr-rohrbach.de
SUMMARY:Fahrzeugpumpen
DESCRIPTION:Verantwortlich: Wagner C.
URL:https://feuerwehr-rohrbach.de/event/fahrzeugpumpen/
END:VEVENT
BEGIN:VEVENT
DTSTART;TZID=Europe/Berlin:20260511T184500
DTEND;TZID=Europe/Berlin:20260511T210000
DTSTAMP:20260421T172858
CREATED:20260104T223817Z
LAST-MODIFIED:20260104T223817Z
UID:3819-1778525100-1778533200@feuerwehr-rohrbach.de
SUMMARY:Wasserversorgung und -förderung (lange Wege)
DESCRIPTION:Verantwortlich: Peters\, Zöllner
URL:https://feuerwehr-rohrbach.de/event/wasserversorgung-und-foerderung-lange-wege/
END:VEVENT
BEGIN:VEVENT
DTSTART;TZID=Europe/Berlin:20260518T184500
DTEND;TZID=Europe/Berlin:20260518T210000
DTSTAMP:20260421T172858
CREATED:20260104T223817Z
LAST-MODIFIED:20260104T223817Z
UID:3820-1779129900-1779138000@feuerwehr-rohrbach.de
SUMMARY:Wald- und Vegetationsbrand
DESCRIPTION:Verantwortlich: Peters
URL:https://feuerwehr-rohrbach.de/event/wald-und-vegetationsbrand/
END:VEVENT
END:VCALENDAR